BEGIN:VCALENDAR
VERSION:2.0
PRODID:-//lightbulb/agenda//NONSGML v1.0//EN
CALSCALE:GREGORIAN
BEGIN:VEVENT
DTEND:20211016T090000
UID:61612b0e44708
DTSTAMP:20211009T053926
LOCATION:1 Rue Principale\, 5290 Schuttrange
DESCRIPTION:Entdeckt während dësem Dag mam Christophe Postler d ‘Welt vun de Champignonen D’Inhalter vun dëser Formatioun sinn: • d‘Bestëmme vu Champignonen • d‘Ennerscheeden vun Iessbaren a gëftege Champignonen • d‘Kachen esou wéi d’Dégustéieren vu verschidde Platen mat Champignionen Datum: Samschdes\, 16.10.2021 (Ufank: 09h00 \; Schluss: 17h00) Plaatz: Centre de Formation et animation 1\, rue principale...  <a class="excerpt-read-more" href="https://nativevillage.lgs.lu/event/pilzseminar-fir-raro-a-cheff/" title="ReadPilzseminar fir RaRo a Cheff">Read more »</a>
URL;VALUE=URI:https://nativevillage.lgs.lu/event/pilzseminar-fir-raro-a-cheff/
SUMMARY:Pilzseminar fir RaRo a Cheff
DTSTART:20211016T090000
END:VEVENT
BEGIN:VEVENT
DTEND:20211016T090000
UID:61612b0e44a38
DTSTAMP:20211009T053926
LOCATION:1 Rue Principale\, 5290 Schuttrange
DESCRIPTION:Entdeckt während dësem Dag mam Christophe Postler d ‘Welt vun de Champignonen D’Inhalter vun dëser Formatioun sinn: • d‘Bestëmme vu Champignonen • d‘Ennerscheeden vun Iessbaren a gëftege Champignonen • d‘Kachen esou wéi d’Dégustéieren vu verschidde Platen mat Champignionen Datum: Samschdes\, 16.10.2021 (Ufank: 09h00 \; Schluss: 17h00) Plaatz: Centre de Formation et animation 1\, rue principale...  <a class="excerpt-read-more" href="https://nativevillage.lgs.lu/event/pilzseminar-fir-raro-a-cheff/" title="ReadPilzseminar fir RaRo a Cheff">Read more »</a>
URL;VALUE=URI:https://nativevillage.lgs.lu/event/pilzseminar-fir-raro-a-cheff/
SUMMARY:Pilzseminar fir RaRo a Cheff
DTSTART:20211016T090000
END:VEVENT
END:VCALENDAR
